BEGIN:VCALENDAR
VERSION:2.0
PRODID:-//Cussac-Fort-Médoc - ECPv6.15.13.1//NONSGML v1.0//EN
CALSCALE:GREGORIAN
METHOD:PUBLISH
X-ORIGINAL-URL:https://www.cussac-fort-medoc.fr
X-WR-CALDESC:Évènements pour Cussac-Fort-Médoc
REFRESH-INTERVAL;VALUE=DURATION:PT1H
X-Robots-Tag:noindex
X-PUBLISHED-TTL:PT1H
BEGIN:VTIMEZONE
TZID:Europe/Paris
BEGIN:DAYLIGHT
TZOFFSETFROM:+0100
TZOFFSETTO:+0200
TZNAME:CEST
DTSTART:20250330T010000
END:DAYLIGHT
BEGIN:STANDARD
TZOFFSETFROM:+0200
TZOFFSETTO:+0100
TZNAME:CET
DTSTART:20251026T010000
END:STANDARD
BEGIN:DAYLIGHT
TZOFFSETFROM:+0100
TZOFFSETTO:+0200
TZNAME:CEST
DTSTART:20260329T010000
END:DAYLIGHT
BEGIN:STANDARD
TZOFFSETFROM:+0200
TZOFFSETTO:+0100
TZNAME:CET
DTSTART:20261025T010000
END:STANDARD
BEGIN:DAYLIGHT
TZOFFSETFROM:+0100
TZOFFSETTO:+0200
TZNAME:CEST
DTSTART:20270328T010000
END:DAYLIGHT
BEGIN:STANDARD
TZOFFSETFROM:+0200
TZOFFSETTO:+0100
TZNAME:CET
DTSTART:20271031T010000
END:STANDARD
END:VTIMEZONE
BEGIN:VEVENT
DTSTART;TZID=Europe/Paris:20260423T190000
DTEND;TZID=Europe/Paris:20260423T210000
DTSTAMP:20260421T134950
CREATED:20260324T114241Z
LAST-MODIFIED:20260414T144055Z
UID:5841-1776970800-1776978000@www.cussac-fort-medoc.fr
SUMMARY:ATELIER PARENTALITÉ : "Frères\, sœurs et compagnie : trouver sa place sans se faire la guerre" - Jeudi 23 avril à Soussans
DESCRIPTION:ATELIER PARENTALITÉ : LA (PARENTHÈSE) DES PARENTS \n\n\n\n« Frères\, sœurs et compagnie : trouver sa place sans se faire la guerre »\n\n\n \n\n\n📆 Jeudi 23 avril\n\n\n🕖 19 heures\n\n\n🏫 Salle des fêtes de SOUSSANS (Place de l’Église)\n\n\n \n\n\nDans le cadre du soutien à la parentalité\, la Communauté de Communes Médoc Estuaire organise en plus de conférences parentalité régulières\, un nouveau format d’atelier parentalité : « la (parenthèse) des parents ».\n\n\n \n\n\nCet atelier aura lieu le Jeudi 23 avril à 19h à la salle des fêtes de Soussans sur la thématique : « Frères\, sœurs et compagnie : trouver sa place sans se faire la guerre ».\n\n\nCe sera l’occasion d’un temps d’échange et d’apprentissage pour mieux comprendre les liens fraternels et accompagner chaque enfant à trouver sa juste place dans la fratrie.\n\n\n \n\n\nLa soirée sera animée par Géraldine Porterie\, animatrice en accompagnement à la parentalité Parents Plus (https://parentsplus.fr/)\n\n\n \n\n\n INSCRIPTION OBLIGATOIRE EN LIGNE : https://www.cc-medoc-estuaire.fr/agenda/atelier-parentalite/
URL:https://www.cussac-fort-medoc.fr/evenement/atelier-parentalite-freres-soeurs-et-compagnie-trouver-sa-place-sans-se-faire-la-guerre/
LOCATION:Salle des fêtes de Soussans\, Place de l'Église\, SOUSSANS\, 33460\, France
ATTACH;FMTTYPE=image/png:https://www.cussac-fort-medoc.fr/wp-content/uploads/2026/03/Vignette-.png
END:VEVENT
END:VCALENDAR