BEGIN:VCALENDAR
VERSION:2.0
PRODID:-//Cussac-Fort-Médoc - ECPv6.15.13.1//NONSGML v1.0//EN
CALSCALE:GREGORIAN
METHOD:PUBLISH
X-ORIGINAL-URL:https://www.cussac-fort-medoc.fr
X-WR-CALDESC:Évènements pour Cussac-Fort-Médoc
REFRESH-INTERVAL;VALUE=DURATION:PT1H
X-Robots-Tag:noindex
X-PUBLISHED-TTL:PT1H
BEGIN:VTIMEZONE
TZID:Europe/Paris
BEGIN:DAYLIGHT
TZOFFSETFROM:+0100
TZOFFSETTO:+0200
TZNAME:CEST
DTSTART:20250330T010000
END:DAYLIGHT
BEGIN:STANDARD
TZOFFSETFROM:+0200
TZOFFSETTO:+0100
TZNAME:CET
DTSTART:20251026T010000
END:STANDARD
BEGIN:DAYLIGHT
TZOFFSETFROM:+0100
TZOFFSETTO:+0200
TZNAME:CEST
DTSTART:20260329T010000
END:DAYLIGHT
BEGIN:STANDARD
TZOFFSETFROM:+0200
TZOFFSETTO:+0100
TZNAME:CET
DTSTART:20261025T010000
END:STANDARD
BEGIN:DAYLIGHT
TZOFFSETFROM:+0100
TZOFFSETTO:+0200
TZNAME:CEST
DTSTART:20270328T010000
END:DAYLIGHT
BEGIN:STANDARD
TZOFFSETFROM:+0200
TZOFFSETTO:+0100
TZNAME:CET
DTSTART:20271031T010000
END:STANDARD
END:VTIMEZONE
BEGIN:VEVENT
DTSTART;TZID=Europe/Paris:20260424T171500
DTEND;TZID=Europe/Paris:20260424T184500
DTSTAMP:20260421T133116
CREATED:20260420T142404Z
LAST-MODIFIED:20260420T142440Z
UID:6082-1777050900-1777056300@www.cussac-fort-medoc.fr
SUMMARY:CONCOURS DE DESSIN - Vendredi 24 avril - 17h15 au Périscolaire
DESCRIPTION:
URL:https://www.cussac-fort-medoc.fr/evenement/concours-de-dessin-vendredi-24-avril/
LOCATION:Périscolaire\, 34 Avenue du Haut Médoc\, Cussac-Fort-Médoc\, 33460\, France
CATEGORIES:Mairie
ATTACH;FMTTYPE=image/jpeg:https://www.cussac-fort-medoc.fr/wp-content/uploads/2026/04/Document14.jpg
ORGANIZER;CN="Conseil Municipal des Jeunes":MAILTO:dev.social@cussacfortmedoc.fr
END:VEVENT
BEGIN:VEVENT
DTSTART;TZID=Europe/Paris:20260424T200000
DTEND;TZID=Europe/Paris:20260424T233000
DTSTAMP:20260421T133116
CREATED:20260416T133708Z
LAST-MODIFIED:20260416T133708Z
UID:6071-1777060800-1777073400@www.cussac-fort-medoc.fr
SUMMARY:LOTO DE L'ASSOCIATION SOLEIL D'AUTOMNE - Vendredi 24 avril à 20h
DESCRIPTION:
URL:https://www.cussac-fort-medoc.fr/evenement/loto-de-lassociation-soleil-dautomne-vendredi-24-avril-a-20h/
LOCATION:Salle Joseph Despaze\, Place du Général de Gaulle\, CUSSAC-FORT-MÉDOC\, 33460\, France
CATEGORIES:Associations
ATTACH;FMTTYPE=image/jpeg:https://www.cussac-fort-medoc.fr/wp-content/uploads/2026/04/loto-du-vendredi-24-avril-2026.jpg
END:VEVENT
END:VCALENDAR