BEGIN:VCALENDAR
VERSION:2.0
PRODID:-//Cussac-Fort-Médoc - ECPv6.15.13.1//NONSGML v1.0//EN
CALSCALE:GREGORIAN
METHOD:PUBLISH
X-ORIGINAL-URL:https://www.cussac-fort-medoc.fr
X-WR-CALDESC:Évènements pour Cussac-Fort-Médoc
REFRESH-INTERVAL;VALUE=DURATION:PT1H
X-Robots-Tag:noindex
X-PUBLISHED-TTL:PT1H
BEGIN:VTIMEZONE
TZID:Europe/Paris
BEGIN:DAYLIGHT
TZOFFSETFROM:+0100
TZOFFSETTO:+0200
TZNAME:CEST
DTSTART:20250330T010000
END:DAYLIGHT
BEGIN:STANDARD
TZOFFSETFROM:+0200
TZOFFSETTO:+0100
TZNAME:CET
DTSTART:20251026T010000
END:STANDARD
BEGIN:DAYLIGHT
TZOFFSETFROM:+0100
TZOFFSETTO:+0200
TZNAME:CEST
DTSTART:20260329T010000
END:DAYLIGHT
BEGIN:STANDARD
TZOFFSETFROM:+0200
TZOFFSETTO:+0100
TZNAME:CET
DTSTART:20261025T010000
END:STANDARD
BEGIN:DAYLIGHT
TZOFFSETFROM:+0100
TZOFFSETTO:+0200
TZNAME:CEST
DTSTART:20270328T010000
END:DAYLIGHT
BEGIN:STANDARD
TZOFFSETFROM:+0200
TZOFFSETTO:+0100
TZNAME:CET
DTSTART:20271031T010000
END:STANDARD
END:VTIMEZONE
BEGIN:VEVENT
DTSTART;TZID=Europe/Paris:20260430T130000
DTEND;TZID=Europe/Paris:20260430T160000
DTSTAMP:20260421T132320
CREATED:20260407T151635Z
LAST-MODIFIED:20260414T144209Z
UID:5971-1777554000-1777564800@www.cussac-fort-medoc.fr
SUMMARY:COUPURE ÉLECTRICITÉ : TRAVAUX ENEDIS - Jeudi 30 avril
DESCRIPTION:COUPURE DE COURANT POUR TRAVAUX\nQuand ? JEUDI 30 AVRIL 2026\nHoraires de coupure : de 13h à 16h \nQuartiers ou lieux-dits concernés  : \n5\, 2 au 6 Rue DU BOIS DES ANDRES \n4 Impasse DU FOUR \n1 Avenue du DU FORT MEDOC \n1 au 5\, 9\, 2\, 6\, 12 au 14\, 20\, 24 au 26 Rue DU VIEUX CUSSAC \n5\, 9\, 13\, 17 au 21\, 2\, 8 au 10 Rue DES AUBAREDES \n1\, 4 au 6\, 6B Impasse DU PUITS \nPour répondre aux besoins de sa clientèle\, Enedis a prévu de réaliser sur le réseau de distribution des travaux qui entraîneront une ou plusieurs coupures d’électricité.\nPour protéger au mieux vos appareils sensibles\, nous vous recommandons de les débrancher avant l’heure de début de coupure indiquée\, et de ne les rebrancher qu’une fois le courant rétabli.\nToutefois l’alimentation pourra être rétablie à tout moment avant la fin de la plage indiquée. \n  \n  \n  \n 
URL:https://www.cussac-fort-medoc.fr/evenement/coupure-electricite-travaux-enedis/
ATTACH;FMTTYPE=image/png:https://www.cussac-fort-medoc.fr/wp-content/uploads/2026/04/logo-enedis.png
END:VEVENT
END:VCALENDAR