BEGIN:VCALENDAR
VERSION:2.0
PRODID:-//Cussac-Fort-Médoc - ECPv6.15.13.1//NONSGML v1.0//EN
CALSCALE:GREGORIAN
METHOD:PUBLISH
X-ORIGINAL-URL:https://www.cussac-fort-medoc.fr
X-WR-CALDESC:Évènements pour Cussac-Fort-Médoc
REFRESH-INTERVAL;VALUE=DURATION:PT1H
X-Robots-Tag:noindex
X-PUBLISHED-TTL:PT1H
BEGIN:VTIMEZONE
TZID:Europe/Paris
BEGIN:DAYLIGHT
TZOFFSETFROM:+0100
TZOFFSETTO:+0200
TZNAME:CEST
DTSTART:20250330T010000
END:DAYLIGHT
BEGIN:STANDARD
TZOFFSETFROM:+0200
TZOFFSETTO:+0100
TZNAME:CET
DTSTART:20251026T010000
END:STANDARD
BEGIN:DAYLIGHT
TZOFFSETFROM:+0100
TZOFFSETTO:+0200
TZNAME:CEST
DTSTART:20260329T010000
END:DAYLIGHT
BEGIN:STANDARD
TZOFFSETFROM:+0200
TZOFFSETTO:+0100
TZNAME:CET
DTSTART:20261025T010000
END:STANDARD
BEGIN:DAYLIGHT
TZOFFSETFROM:+0100
TZOFFSETTO:+0200
TZNAME:CEST
DTSTART:20270328T010000
END:DAYLIGHT
BEGIN:STANDARD
TZOFFSETFROM:+0200
TZOFFSETTO:+0100
TZNAME:CET
DTSTART:20271031T010000
END:STANDARD
END:VTIMEZONE
BEGIN:VEVENT
DTSTART;TZID=Europe/Paris:20260614T123000
DTEND;TZID=Europe/Paris:20260614T180000
DTSTAMP:20260421T162638
CREATED:20260415T143256Z
LAST-MODIFIED:20260415T143320Z
UID:6061-1781440200-1781460000@www.cussac-fort-medoc.fr
SUMMARY:SARDINADE AU FORT MÉDOC - Dimanche 14 juin à 12h30
DESCRIPTION:
URL:https://www.cussac-fort-medoc.fr/evenement/6061/
LOCATION:Fort Médoc\, 32 Avenue du Fort Médoc\, CUSSAC-FORT-MÉDOC\, 33460\, France
CATEGORIES:Associations
ATTACH;FMTTYPE=image/jpeg:https://www.cussac-fort-medoc.fr/wp-content/uploads/2026/04/Sardinade-Fort-Medoc-Dimanche-14-juin-2026-association-Franco-Portugaise.jpg
ORGANIZER;CN="Association Franco-Portugaise":MAILTO:asso.francoportugaise@gmail.com
END:VEVENT
END:VCALENDAR