BEGIN:VCALENDAR
VERSION:2.0
PRODID:-//Cussac-Fort-Médoc - ECPv6.15.13.1//NONSGML v1.0//EN
CALSCALE:GREGORIAN
METHOD:PUBLISH
X-ORIGINAL-URL:https://www.cussac-fort-medoc.fr
X-WR-CALDESC:Évènements pour Cussac-Fort-Médoc
REFRESH-INTERVAL;VALUE=DURATION:PT1H
X-Robots-Tag:noindex
X-PUBLISHED-TTL:PT1H
BEGIN:VTIMEZONE
TZID:Europe/Paris
BEGIN:DAYLIGHT
TZOFFSETFROM:+0100
TZOFFSETTO:+0200
TZNAME:CEST
DTSTART:20250330T010000
END:DAYLIGHT
BEGIN:STANDARD
TZOFFSETFROM:+0200
TZOFFSETTO:+0100
TZNAME:CET
DTSTART:20251026T010000
END:STANDARD
BEGIN:DAYLIGHT
TZOFFSETFROM:+0100
TZOFFSETTO:+0200
TZNAME:CEST
DTSTART:20260329T010000
END:DAYLIGHT
BEGIN:STANDARD
TZOFFSETFROM:+0200
TZOFFSETTO:+0100
TZNAME:CET
DTSTART:20261025T010000
END:STANDARD
BEGIN:DAYLIGHT
TZOFFSETFROM:+0100
TZOFFSETTO:+0200
TZNAME:CEST
DTSTART:20270328T010000
END:DAYLIGHT
BEGIN:STANDARD
TZOFFSETFROM:+0200
TZOFFSETTO:+0100
TZNAME:CET
DTSTART:20271031T010000
END:STANDARD
END:VTIMEZONE
BEGIN:VEVENT
DTSTART;TZID=Europe/Paris:20260509T193000
DTEND;TZID=Europe/Paris:20260509T233000
DTSTAMP:20260421T150545
CREATED:20260414T145500Z
LAST-MODIFIED:20260414T145923Z
UID:6035-1778355000-1778369400@www.cussac-fort-medoc.fr
SUMMARY:FÊTE FRANCO-PORTUGAISE - DÎNER + BAL - Samedi 9 mai
DESCRIPTION:
URL:https://www.cussac-fort-medoc.fr/evenement/fete-franco-portugaise/
LOCATION:Salle Joseph Despaze\, Place du Général de Gaulle\, CUSSAC-FORT-MÉDOC\, 33460\, France
CATEGORIES:Associations
ATTACH;FMTTYPE=image/jpeg:https://www.cussac-fort-medoc.fr/wp-content/uploads/2026/04/IMG_1723.JPG.jpg
ORGANIZER;CN="Association Franco-Portugaise":MAILTO:asso.francoportugaise@gmail.com
END:VEVENT
END:VCALENDAR